BEGIN:VCALENDAR
VERSION:2.0
PRODID:-//Gus' Diner - ECPv5.7.0//NONSGML v1.0//EN
CALSCALE:GREGORIAN
METHOD:PUBLISH
X-WR-CALNAME:Gus' Diner
X-ORIGINAL-URL:https://gusdiner.com
X-WR-CALDESC:Events for Gus' Diner
BEGIN:VTIMEZONE
TZID:America/New_York
BEGIN:DAYLIGHT
TZOFFSETFROM:-0500
TZOFFSETTO:-0400
TZNAME:EDT
DTSTART:20170312T070000
END:DAYLIGHT
BEGIN:STANDARD
TZOFFSETFROM:-0400
TZOFFSETTO:-0500
TZNAME:EST
DTSTART:20171105T060000
END:STANDARD
END:VTIMEZONE
BEGIN:VEVENT
DTSTART;VALUE=DATE:20171123
DTEND;VALUE=DATE:20171124
DTSTAMP:20260423T140401
CREATED:20150920T000808Z
LAST-MODIFIED:20170214T040517Z
UID:198-1511395200-1511481599@gusdiner.com
SUMMARY:Thanksgiving Dinner
DESCRIPTION:Have Thanksgiving Dinner with the Gus’ Diner family. Details coming soon.
URL:https://gusdiner.com/event/thanksgiving-dinner-2/
CATEGORIES:Events
END:VEVENT
END:VCALENDAR